BEGIN:VCALENDAR
VERSION:2.0
PRODID:-//TYPO3/NONSGML Calendarize//EN
BEGIN:VEVENT
UID:calendarize-kreisversammlung-3
DTSTAMP:20260424T064301Z
DTSTART:20260520T220000Z
DTEND:20260520T220000Z
SUMMARY:Kreisversammlung
DESCRIPTION:
X-ALT-DESC;FMTTYPE=text/html:
LOCATION:
END:VEVENT
END:VCALENDAR
