BEGIN:VCALENDAR
VERSION:2.0
PRODID:-//TYPO3/NONSGML Calendarize//EN
BEGIN:VEVENT
UID:calendarize-grossdemo-fuer-klimaschutz
DTSTAMP:20260421T013540Z
DTSTART:20260418T100000Z
DTEND:20260418T130000Z
SUMMARY:Großdemo für Klimaschutz
DESCRIPTION:In mehreren deutschen Großstädten finden am Samstag\, 18. Ap
 ril\, Demonstrationen für die erfolgreiche Fortsetzung der Energiewende s
 tatt. Auch die Bund-Naturschutz-Kreisgruppe will Flagge zeigen und in Mün
 chen für die Energiewende auf die Straße gehen. Für die gemeinsame Fahr
 t nach München ist Treffpunkt am Hauptbahnhof um 10:15 Uhr. Die Auftaktve
 ranstaltung in München am Siegestor beginnt um 12 Uhr.\nDem Großangriff 
 von Reichel\, Söder und anderen auf die Energiewende und den Klimaschutz 
 müssen wir entschieden entgegentreten!\nEs gilt daher am Samstag den 18. 
 April gemeinsam auf der Großdemo in München die Erneuerbaren Energien zu
  verteidigen! \nDiese Regierung setzt alles daran\, die Erfolgsgeschichte 
 der erneuerbaren Energien in Deutschland und Europa gegen die Wand zu fahr
 en. Eine ganze Serie von Gesetzen wirkt wie eine Vollbremsung der Erneuerb
 aren: Netzpaket\, Gebäudemodernisierungsgesetz\, neues EEG mit Streichung
  der Vergütung von Strom aus privaten PV-Anlagen\, sowie der Wiedereinsti
 eg in die Atomenergie mit zusätzlichen Unmengen von strahlendem Atommüll
 . Diese Maßnahmen werden dafür sorgen\, dass wir weiterhin abhängig von
  teuren fossilen Importen und damit erpressbar bleiben.\nProgramm:  Harald
  Lesch (Prof. Astrophysik TUM\, Wissenschaftsjournalist) Michael Sterner (
 Prof. Energiespeicher und Energiesysteme OTH Regensburg) Verena Bentele (P
 räsidentin Sozialverband VdK Deutschland) Katharina Habersbrunner (Vorstä
 ndin BBEn und Vorsitzende Bürgerenergiegenossenschaft BENG eG) Sepp Bichl
 er (Energiebauern GmbH) Katharina Schulze (MdL\, Bündnis90 / Die Grünen)
  Florian von Brunn (MdL\, SPD) Franziska Buch (Umweltinstitut München) Sa
 skia Reinbeck (Greenpeace Bayern) Martin Geilhufe (BUND Naturschutz in Bay
 ern) Andie Wörle (German Zero)\nMusik: GG Soprano\, Jesko Braun Hans & Sa
 rah Well (“Hans Well & die Wellbappn”)\nRoute:  12 bis 13 Uhr Siegesto
 r | Ludwigstr. – von-der-Tann-Str. | ca. 13.40 Uhr Staatskanzlei | FJS-R
 ing – Prinzregentenstr. | ca. 14.20 – 14.50 Uhr Bayer. Ministerium f. 
 Wirtschaft
X-ALT-DESC;FMTTYPE=text/html:<p>In mehreren deutschen Großstädten finden
  am Samstag\, 18. April\, Demonstrationen für die erfolgreiche Fortsetzun
 g der Energiewende statt. Auch die Bund-Naturschutz-Kreisgruppe will Flagg
 e zeigen und in München für die Energiewende auf die Straße gehen. Für
  die gemeinsame Fahrt nach München ist Treffpunkt am Hauptbahnhof um 10:1
 5 Uhr. Die Auftaktveranstaltung in München am Siegestor beginnt um 12 Uhr
 .</p>\n<p><strong>Dem Großangriff von Reichel\, Söder und anderen auf di
 e Energiewende und den Klimaschutz müssen wir entschieden entgegentreten!
 </strong></p>\n<p><strong>Es gilt daher am Samstag den 18. April gemeinsam
  auf der Großdemo in München die Erneuerbaren Energien zu verteidigen! <
 /strong></p>\n<p>Diese Regierung setzt alles daran\, die Erfolgsgeschichte
  der erneuerbaren Energien in Deutschland und Europa gegen die Wand zu fah
 ren. Eine ganze Serie von Gesetzen wirkt wie eine Vollbremsung der Erneuer
 baren: Netzpaket\, Gebäudemodernisierungsgesetz\, neues EEG mit Streichun
 g der Vergütung von Strom aus privaten PV-Anlagen\, sowie der Wiedereinst
 ieg in die Atomenergie mit zusätzlichen Unmengen von strahlendem Atommül
 l. Diese Maßnahmen werden dafür sorgen\, dass wir weiterhin abhängig vo
 n teuren fossilen Importen und damit erpressbar bleiben.</p>\n<p><strong>P
 rogramm: </strong><br /> Harald Lesch (Prof. Astrophysik TUM\, Wissenschaf
 tsjournalist)<br /> Michael Sterner (Prof. Energiespeicher und Energiesyst
 eme OTH Regensburg)<br /> Verena Bentele (Präsidentin Sozialverband VdK D
 eutschland)<br /> Katharina Habersbrunner (Vorständin BBEn und Vorsitzend
 e Bürgerenergiegenossenschaft BENG eG)<br /> Sepp Bichler (Energiebauern 
 GmbH)<br /> Katharina Schulze (MdL\, Bündnis90 / Die Grünen)<br /> Flori
 an von Brunn (MdL\, SPD)<br /> Franziska Buch (Umweltinstitut München)<br
  /> Saskia Reinbeck (Greenpeace Bayern)<br /> Martin Geilhufe (BUND Naturs
 chutz in Bayern)<br /> Andie Wörle (German Zero)</p>\n<p><strong>Musik:</
 strong><br /> GG Soprano\, Jesko Braun<br /> Hans &amp\; Sarah Well (“Ha
 ns Well &amp\; die Wellbappn”)</p>\n<p><strong>Route: </strong><br /> 12
  bis 13 Uhr Siegestor | Ludwigstr. – von-der-Tann-Str. | ca. 13.40 Uhr S
 taatskanzlei | FJS-Ring – Prinzregentenstr. | ca. 14.20 – 14.50 Uhr Ba
 yer. Ministerium f. Wirtschaft</p>
LOCATION:Siegestor\, München (https://erneuerbare-energien-verteidigen.de
 / _blank)
END:VEVENT
END:VCALENDAR
